BEGIN:VCALENDAR
VERSION:2.0
PRODID:-//Library Market//iCal Export//EN
BEGIN:VEVENT
SUMMARY:Wheaton Historic Commission Info Table
UID:151635
DTSTAMP:20260424T081300Z
DTSTART:20260506T150000Z
DTEND:20260506T180000Z
LOCATION:Wheaton Public Library, 225 N. Cross St., Wheaton, IL 60187, Unit
 ed States
ROOM: Arts &amp; Culture Center
DESCRIPTION:Representatives from the City of Wheaton Historic Commission w
 ill be in the Arts &amp; Culture Center on the main floor from 10 am - 1 p
 m to answer questions about the commission and share their love of Wheaton
  history with the community. 
URL:https://www.wheatonlibrary.org/event/wheaton-historic-commission-info-
 table-151635
END:VEVENT
END:VCALENDAR
