BEGIN:VCALENDAR
VERSION:2.0
PRODID:-//Library Market//iCal Export//EN
BEGIN:VEVENT
SUMMARY:Concert: The JukeBox Heroes
UID:151320
DTSTAMP:20260421T171100Z
DTSTART:20260908T230000Z
DTEND:20260909T003000Z
LOCATION:Wheaton Public Library, 225 N. Cross St., Wheaton, IL 60187, Unit
 ed States
ROOM: West Plaza
DESCRIPTION:Join us an hour early! The JukeBox Heroes are a local acoustic
  based cover band with an eclectic song list covering rock, pop, and count
 ry hits from the 50s to today!Outdoor concerts are held on the Library&#03
 9;s West Plaza. While limited seating is provided, it is encouraged to bri
 ng chairs. In the event of inclement weather, concerts will be held inside
  the Library. Please check WPL calendar for most up-to-date information. N
 o registration required.
URL:https://www.wheatonlibrary.org/event/concert-jukebox-heroes-151320
END:VEVENT
END:VCALENDAR
