BEGIN:VCALENDAR
VERSION:2.0
PRODID:-//Library Market//iCal Export//EN
BEGIN:VEVENT
SUMMARY:20s &amp; 30s Book Discussion
UID:150728
DTSTAMP:20260421T095500Z
DTSTART:20260723T000000Z
DTEND:20260723T010000Z
LOCATION:Wheaton Public Library, 225 N. Cross St., Wheaton, IL 60187, Unit
 ed States
ROOM: Meeting Room 2B
DESCRIPTION:Book TBD
URL:https://www.wheatonlibrary.org/event/20s-30s-book-discussion-150728
END:VEVENT
END:VCALENDAR
