BEGIN:VCALENDAR
VERSION:2.0
PRODID:-//Library Market//iCal Export//EN
BEGIN:VEVENT
SUMMARY:Concert: Class of &#039;68
UID:149310
DTSTAMP:20260421T153300Z
DTSTART:20260812T000000Z
DTEND:20260812T013000Z
LOCATION:Wheaton Public Library, 225 N. Cross St., Wheaton, IL 60187, Unit
 ed States
ROOM: West Plaza
DESCRIPTION:Class of ‘68 features a power fusion of classic rock and sou
 l music that captures the energy and passion of the timeless hits that cha
 nged the world!Outdoor concerts are held on the Library&#039;s West Plaza.
  While limited seating is provided, it is encouraged to bring chairs. In t
 he event of inclement weather, concerts will be held inside the Library. P
 lease check WPL calendar for most up-to-date information. No registration 
 required.
URL:https://www.wheatonlibrary.org/event/concert-class-68-149310
END:VEVENT
END:VCALENDAR
