BEGIN:VCALENDAR
VERSION:2.0
PRODID:-//Library Market//iCal Export//EN
BEGIN:VEVENT
SUMMARY:Concert: Rosie &amp; the Rivets
UID:149307
DTSTAMP:20260421T153300Z
DTSTART:20260715T000000Z
DTEND:20260715T013000Z
LOCATION:Wheaton Public Library, 225 N. Cross St., Wheaton, IL 60187, Unit
 ed States
ROOM: West Plaza
DESCRIPTION:Rosie &amp; The Rivets are the Premier Retro Rock ‘n’ Roll
  Tribute Show performing the best music of the 50s and early 60s along wit
 h some contemporary music with a retro twist!Outdoor concerts are held on 
 the Library&#039;s West Plaza. While limited seating is provided, it is en
 couraged to bring chairs. In the event of inclement weather, concerts will
  be held inside the Library. Please check WPL calendar for most up-to-date
  information. No registration required.
URL:https://www.wheatonlibrary.org/event/concert-rosie-rivets-149307
END:VEVENT
END:VCALENDAR
