BEGIN:VCALENDAR
VERSION:2.0
PRODID:-//Library Market//iCal Export//EN
BEGIN:VEVENT
SUMMARY:Concert: the StingRays
UID:149306
DTSTAMP:20260421T153300Z
DTSTART:20260617T000000Z
DTEND:20260617T013000Z
LOCATION:Wheaton Public Library, 225 N. Cross St., Wheaton, IL 60187, Unit
 ed States
ROOM: West Plaza
DESCRIPTION:Dance to the greatest rock ‘n roll from the 50s, 60s, and 70
 s with the StingRays! This energetic foursome will get you on your feet an
 d test your trivia knowledge of your favorite oldies.Outdoor concerts are 
 held on the Library&#039;s West Plaza. While limited seating is provided, 
 it is encouraged to bring chairs. In the event of inclement weather, conce
 rts will be held inside the Library. Please check WPL calendar for most up
 -to-date information. No registration required.
URL:https://www.wheatonlibrary.org/event/concert-stingrays-149306
END:VEVENT
END:VCALENDAR
