BEGIN:VCALENDAR
VERSION:2.0
PRODID:-//Library Market//iCal Export//EN
BEGIN:VEVENT
SUMMARY:Teen Karaoke Night
UID:141108
DTSTAMP:20260421T095500Z
DTSTART:20260713T230000Z
DTEND:20260714T010000Z
LOCATION:Wheaton Public Library, 225 N. Cross St., Wheaton, IL 60187, Unit
 ed States
ROOM: Meeting Room A
DESCRIPTION:Come sing your favorite song at Teen Karaoke Night, or have a 
 blast watching others perform! 
URL:https://www.wheatonlibrary.org/event/teen-karaoke-night-141108
END:VEVENT
END:VCALENDAR
